BEGIN:VCALENDAR
VERSION:2.0
PRODID:-//FBSD-Webseite - ECPv6.15.20//NONSGML v1.0//EN
CALSCALE:GREGORIAN
METHOD:PUBLISH
X-WR-CALNAME:FBSD-Webseite
X-ORIGINAL-URL:https://fbsd.de
X-WR-CALDESC:Veranstaltungen für FBSD-Webseite
REFRESH-INTERVAL;VALUE=DURATION:PT1H
X-Robots-Tag:noindex
X-PUBLISHED-TTL:PT1H
BEGIN:VTIMEZONE
TZID:Europe/Berlin
BEGIN:DAYLIGHT
TZOFFSETFROM:+0100
TZOFFSETTO:+0200
TZNAME:CEST
DTSTART:20250330T010000
END:DAYLIGHT
BEGIN:STANDARD
TZOFFSETFROM:+0200
TZOFFSETTO:+0100
TZNAME:CET
DTSTART:20251026T010000
END:STANDARD
BEGIN:DAYLIGHT
TZOFFSETFROM:+0100
TZOFFSETTO:+0200
TZNAME:CEST
DTSTART:20260329T010000
END:DAYLIGHT
BEGIN:STANDARD
TZOFFSETFROM:+0200
TZOFFSETTO:+0100
TZNAME:CET
DTSTART:20261025T010000
END:STANDARD
BEGIN:DAYLIGHT
TZOFFSETFROM:+0100
TZOFFSETTO:+0200
TZNAME:CEST
DTSTART:20270328T010000
END:DAYLIGHT
BEGIN:STANDARD
TZOFFSETFROM:+0200
TZOFFSETTO:+0100
TZNAME:CET
DTSTART:20271031T010000
END:STANDARD
END:VTIMEZONE
BEGIN:VEVENT
DTSTART;TZID=Europe/Berlin:20260702T193000
DTEND;TZID=Europe/Berlin:20260702T193000
DTSTAMP:20260424T144643
CREATED:20260125T142943Z
LAST-MODIFIED:20260125T143233Z
UID:32052-1783020600-1783020600@fbsd.de
SUMMARY:Musikantenstammtisch
DESCRIPTION:Musikanten und Gesangsgruppen die heimatlich bairisch alpenländische Volksmusik aufspielen sowie Gäste sind herzlich willkommen.\nAuch der heimatliche Dialekt und das miteinander Singen wird nicht zu kurz kommen.\nMusikgruppen bitte anmelden. \nOrganisation\, Kontakt und Reservierungen:\nUschi Kufer\nTel. 08441 783844\nUschi.Kufer@gmx.de
URL:https://fbsd.de/event/musikantenstammtisch-3/
LOCATION:Holledauer Hüttn\, Kohlstattweg 15\, Förnbach\, 85276 Pfaffenhofen a.d. Ilm
CATEGORIES:Singen und Musizieren
ORGANIZER;CN="FBSD-LV Donau-Ilm-Altm%C3%BChl":MAILTO:lv-donau-ilm-altmuehl@fbsd.de
END:VEVENT
BEGIN:VEVENT
DTSTART;VALUE=DATE:20260725
DTEND;VALUE=DATE:20260727
DTSTAMP:20260424T144643
CREATED:20260222T160041Z
LAST-MODIFIED:20260222T160401Z
UID:32222-1784937600-1785110399@fbsd.de
SUMMARY:1250 Jahre Egling
DESCRIPTION:Infostand mit Dialektquiz\n10:00 Uhr – 17:00 Uhr \nNähere Informationen:\nIrene Dorn\nMobil 0151 42836427\nirene@blumen-dorn.de
URL:https://fbsd.de/event/1250-jahre-egling/
LOCATION:Kloster Andechs – Florianstadl\, Bergstraße 2\, 82346 Andechs
CATEGORIES:Infostand
END:VEVENT
BEGIN:VEVENT
DTSTART;TZID=Europe/Berlin:20260806T193000
DTEND;TZID=Europe/Berlin:20260806T193000
DTSTAMP:20260424T144643
CREATED:20260125T143430Z
LAST-MODIFIED:20260125T143437Z
UID:32057-1786044600-1786044600@fbsd.de
SUMMARY:Musikantenstammtisch
DESCRIPTION:Musikanten und Gesangsgruppen die heimatlich bairisch alpenländische Volksmusik aufspielen sowie Gäste sind herzlich willkommen.\nAuch der heimatliche Dialekt und das miteinander Singen wird nicht zu kurz kommen.\nMusikgruppen bitte anmelden. \nOrganisation\, Kontakt und Reservierungen:\nUschi Kufer\nTel. 08441 783844\nUschi.Kufer@gmx.de
URL:https://fbsd.de/event/musikantenstammtisch-5/
LOCATION:Holledauer Hüttn\, Kohlstattweg 15\, Förnbach\, 85276 Pfaffenhofen a.d. Ilm
CATEGORIES:Singen und Musizieren
ORGANIZER;CN="FBSD-LV Donau-Ilm-Altm%C3%BChl":MAILTO:lv-donau-ilm-altmuehl@fbsd.de
END:VEVENT
BEGIN:VEVENT
DTSTART;TZID=Europe/Berlin:20260903T193000
DTEND;TZID=Europe/Berlin:20260903T193000
DTSTAMP:20260424T144643
CREATED:20260125T143517Z
LAST-MODIFIED:20260125T143523Z
UID:32059-1788463800-1788463800@fbsd.de
SUMMARY:Musikantenstammtisch
DESCRIPTION:Musikanten und Gesangsgruppen die heimatlich bairisch alpenländische Volksmusik aufspielen sowie Gäste sind herzlich willkommen.\nAuch der heimatliche Dialekt und das miteinander Singen wird nicht zu kurz kommen.\nMusikgruppen bitte anmelden. \nOrganisation\, Kontakt und Reservierungen:\nUschi Kufer\nTel. 08441 783844\nUschi.Kufer@gmx.de
URL:https://fbsd.de/event/musikantenstammtisch-6/
LOCATION:Holledauer Hüttn\, Kohlstattweg 15\, Förnbach\, 85276 Pfaffenhofen a.d. Ilm
CATEGORIES:Singen und Musizieren
ORGANIZER;CN="FBSD-LV Donau-Ilm-Altm%C3%BChl":MAILTO:lv-donau-ilm-altmuehl@fbsd.de
END:VEVENT
BEGIN:VEVENT
DTSTART;TZID=Europe/Berlin:20260920T143000
DTEND;TZID=Europe/Berlin:20260920T143000
DTSTAMP:20260424T144643
CREATED:20260127T133320Z
LAST-MODIFIED:20260127T133358Z
UID:32094-1789914600-1789914600@fbsd.de
SUMMARY:Boarisch gret\, gsunga und aufgspuit
DESCRIPTION:Mit drei Musikgruppen und Mundartsprechern\nDer Eintritt ist frei – eine Spende erbeten \nKontakt und Platzreservierung: Uschi Kufer 08441 783844 (A.B.)
URL:https://fbsd.de/event/boarisch-gretgsunga-und-aufgspuit/
LOCATION:Naturfreundehaus\, Ziegelstr. 88\, 85276 Pfaffenhofen a. d. Ilm
CATEGORIES:Singen und Musizieren
ORGANIZER;CN="FBSD-LV Donau-Ilm-Altm%C3%BChl":MAILTO:lv-donau-ilm-altmuehl@fbsd.de
END:VEVENT
BEGIN:VEVENT
DTSTART;TZID=Europe/Berlin:20260927T143000
DTEND;TZID=Europe/Berlin:20260927T143000
DTSTAMP:20260424T144643
CREATED:20260127T133442Z
LAST-MODIFIED:20260127T133449Z
UID:32097-1790519400-1790519400@fbsd.de
SUMMARY:Boarisch gret\, gsunga und aufgspuit
DESCRIPTION:Mit drei Musikgruppen und Mundartsprechern\nDer Eintritt ist frei – eine Spende erbeten \nKontakt und Platzreservierung: Uschi Kufer 08441 783844 (A.B.)
URL:https://fbsd.de/event/boarisch-gret-gsunga-und-aufgspuit-2/
LOCATION:Naturfreundehaus\, Ziegelstr. 88\, 85276 Pfaffenhofen a. d. Ilm
CATEGORIES:Singen und Musizieren
ORGANIZER;CN="FBSD-LV Donau-Ilm-Altm%C3%BChl":MAILTO:lv-donau-ilm-altmuehl@fbsd.de
END:VEVENT
BEGIN:VEVENT
DTSTART;TZID=Europe/Berlin:20261003T100000
DTEND;TZID=Europe/Berlin:20261003T170000
DTSTAMP:20260424T144643
CREATED:20260413T083839Z
LAST-MODIFIED:20260413T083839Z
UID:32325-1791021600-1791046800@fbsd.de
SUMMARY:Trachten- und Handwerkermarkt in Vagen
DESCRIPTION:Infostand mit Dialektquiz
URL:https://fbsd.de/event/trachten-und-handwerkermarkt-in-vagen/
LOCATION:Faganhalle Vagen\, Mitterkirchener Str. 5\, 83620 Vagen
CATEGORIES:Infostand
ORGANIZER;CN="FBSD-LV Rosenheim-Miesbach":MAILTO:lv-rosenheim-miesbach@fbsd.de
END:VEVENT
END:VCALENDAR