BEGIN:VCALENDAR
VERSION:2.0
PRODID:-//FBSD-Webseite - ECPv6.15.20//NONSGML v1.0//EN
CALSCALE:GREGORIAN
METHOD:PUBLISH
X-ORIGINAL-URL:https://fbsd.de
X-WR-CALDESC:Veranstaltungen für FBSD-Webseite
REFRESH-INTERVAL;VALUE=DURATION:PT1H
X-Robots-Tag:noindex
X-PUBLISHED-TTL:PT1H
BEGIN:VTIMEZONE
TZID:Europe/Berlin
BEGIN:DAYLIGHT
TZOFFSETFROM:+0100
TZOFFSETTO:+0200
TZNAME:CEST
DTSTART:20250330T010000
END:DAYLIGHT
BEGIN:STANDARD
TZOFFSETFROM:+0200
TZOFFSETTO:+0100
TZNAME:CET
DTSTART:20251026T010000
END:STANDARD
BEGIN:DAYLIGHT
TZOFFSETFROM:+0100
TZOFFSETTO:+0200
TZNAME:CEST
DTSTART:20260329T010000
END:DAYLIGHT
BEGIN:STANDARD
TZOFFSETFROM:+0200
TZOFFSETTO:+0100
TZNAME:CET
DTSTART:20261025T010000
END:STANDARD
BEGIN:DAYLIGHT
TZOFFSETFROM:+0100
TZOFFSETTO:+0200
TZNAME:CEST
DTSTART:20270328T010000
END:DAYLIGHT
BEGIN:STANDARD
TZOFFSETFROM:+0200
TZOFFSETTO:+0100
TZNAME:CET
DTSTART:20271031T010000
END:STANDARD
END:VTIMEZONE
BEGIN:VEVENT
DTSTART;TZID=Europe/Berlin:20260702T193000
DTEND;TZID=Europe/Berlin:20260702T193000
DTSTAMP:20260425T174759
CREATED:20260125T142943Z
LAST-MODIFIED:20260125T143233Z
UID:32052-1783020600-1783020600@fbsd.de
SUMMARY:Musikantenstammtisch
DESCRIPTION:Musikanten und Gesangsgruppen die heimatlich bairisch alpenländische Volksmusik aufspielen sowie Gäste sind herzlich willkommen.\nAuch der heimatliche Dialekt und das miteinander Singen wird nicht zu kurz kommen.\nMusikgruppen bitte anmelden. \nOrganisation\, Kontakt und Reservierungen:\nUschi Kufer\nTel. 08441 783844\nUschi.Kufer@gmx.de
URL:https://fbsd.de/event/musikantenstammtisch-3/
LOCATION:Holledauer Hüttn\, Kohlstattweg 15\, Förnbach\, 85276 Pfaffenhofen a.d. Ilm
CATEGORIES:Singen und Musizieren
ORGANIZER;CN="FBSD-LV Donau-Ilm-Altm%C3%BChl":MAILTO:lv-donau-ilm-altmuehl@fbsd.de
END:VEVENT
END:VCALENDAR