BEGIN:VCALENDAR
VERSION:2.0
PRODID:-//FBSD-Webseite - ECPv6.15.20//NONSGML v1.0//EN
CALSCALE:GREGORIAN
METHOD:PUBLISH
X-ORIGINAL-URL:https://fbsd.de
X-WR-CALDESC:Veranstaltungen für FBSD-Webseite
REFRESH-INTERVAL;VALUE=DURATION:PT1H
X-Robots-Tag:noindex
X-PUBLISHED-TTL:PT1H
BEGIN:VTIMEZONE
TZID:Europe/Berlin
BEGIN:DAYLIGHT
TZOFFSETFROM:+0100
TZOFFSETTO:+0200
TZNAME:CEST
DTSTART:20250330T010000
END:DAYLIGHT
BEGIN:STANDARD
TZOFFSETFROM:+0200
TZOFFSETTO:+0100
TZNAME:CET
DTSTART:20251026T010000
END:STANDARD
BEGIN:DAYLIGHT
TZOFFSETFROM:+0100
TZOFFSETTO:+0200
TZNAME:CEST
DTSTART:20260329T010000
END:DAYLIGHT
BEGIN:STANDARD
TZOFFSETFROM:+0200
TZOFFSETTO:+0100
TZNAME:CET
DTSTART:20261025T010000
END:STANDARD
BEGIN:DAYLIGHT
TZOFFSETFROM:+0100
TZOFFSETTO:+0200
TZNAME:CEST
DTSTART:20270328T010000
END:DAYLIGHT
BEGIN:STANDARD
TZOFFSETFROM:+0200
TZOFFSETTO:+0100
TZNAME:CET
DTSTART:20271031T010000
END:STANDARD
END:VTIMEZONE
BEGIN:VEVENT
DTSTART;TZID=Europe/Berlin:20260628T163000
DTEND;TZID=Europe/Berlin:20260628T163000
DTSTAMP:20260425T150212
CREATED:20260127T132934Z
LAST-MODIFIED:20260127T133040Z
UID:32091-1782664200-1782664200@fbsd.de
SUMMARY:25. Offenes Singen
DESCRIPTION:Singhefte werden ausgeteilt\, Notenkenntnise sind nicht erforderlich.\nMusikalische Leitung: Rosa Karger\nEintritt frei – Spende erbeten \nBei Regen im Hofbergsaal\, Hofberg 7\, Pfaffenhofen \nKontakt: Uschi Kufer  08441 783844\, Angela Nischwitz
URL:https://fbsd.de/event/25-offenes-singen/
LOCATION:Auf der Insel\, Insel 1\, 85276 Pfaffenhofen a. d. Ilm\, Deutschland
CATEGORIES:Singen und Musizieren
ORGANIZER;CN="FBSD-LV Donau-Ilm-Altm%C3%BChl":MAILTO:lv-donau-ilm-altmuehl@fbsd.de
END:VEVENT
END:VCALENDAR