BEGIN:VCALENDAR
VERSION:2.0
PRODID:-//FBSD-Webseite - ECPv6.15.20//NONSGML v1.0//EN
CALSCALE:GREGORIAN
METHOD:PUBLISH
X-WR-CALNAME:FBSD-Webseite
X-ORIGINAL-URL:https://fbsd.de
X-WR-CALDESC:Veranstaltungen für FBSD-Webseite
REFRESH-INTERVAL;VALUE=DURATION:PT1H
X-Robots-Tag:noindex
X-PUBLISHED-TTL:PT1H
BEGIN:VTIMEZONE
TZID:Europe/Berlin
BEGIN:DAYLIGHT
TZOFFSETFROM:+0100
TZOFFSETTO:+0200
TZNAME:CEST
DTSTART:20250330T010000
END:DAYLIGHT
BEGIN:STANDARD
TZOFFSETFROM:+0200
TZOFFSETTO:+0100
TZNAME:CET
DTSTART:20251026T010000
END:STANDARD
BEGIN:DAYLIGHT
TZOFFSETFROM:+0100
TZOFFSETTO:+0200
TZNAME:CEST
DTSTART:20260329T010000
END:DAYLIGHT
BEGIN:STANDARD
TZOFFSETFROM:+0200
TZOFFSETTO:+0100
TZNAME:CET
DTSTART:20261025T010000
END:STANDARD
BEGIN:DAYLIGHT
TZOFFSETFROM:+0100
TZOFFSETTO:+0200
TZNAME:CEST
DTSTART:20270328T010000
END:DAYLIGHT
BEGIN:STANDARD
TZOFFSETFROM:+0200
TZOFFSETTO:+0100
TZNAME:CET
DTSTART:20271031T010000
END:STANDARD
END:VTIMEZONE
BEGIN:VEVENT
DTSTART;TZID=Europe/Berlin:20260527T140000
DTEND;TZID=Europe/Berlin:20260527T140000
DTSTAMP:20260424T175440
CREATED:20260127T131706Z
LAST-MODIFIED:20260127T131712Z
UID:32085-1779890400-1779890400@fbsd.de
SUMMARY:Bairischer Nachmittag
DESCRIPTION:Mit drei Musikgruppen und Mundartsprechern\nDer Eintritt ist frei- eine Spende erbeten\nOrganisation u. Kontakt: Uschi Kufer\,  08441 783844
URL:https://fbsd.de/event/bairischer-nachmittag-2/
LOCATION:Hofbergsaal im Bürgerzentrum\, Hofberg 7\, 85276 Pfaffenhofen a. d. Ilm
CATEGORIES:Singen und Musizieren
ORGANIZER;CN="FBSD-LV Donau-Ilm-Altm%C3%BChl":MAILTO:lv-donau-ilm-altmuehl@fbsd.de
END:VEVENT
END:VCALENDAR